BEGIN:VCALENDAR
VERSION:2.0
PRODID:-//AfD Saarpfalz - ECPv6.15.20//NONSGML v1.0//EN
CALSCALE:GREGORIAN
METHOD:PUBLISH
X-WR-CALNAME:AfD Saarpfalz
X-ORIGINAL-URL:https://afdsaarpfalz.de
X-WR-CALDESC:Veranstaltungen für AfD Saarpfalz
REFRESH-INTERVAL;VALUE=DURATION:PT1H
X-Robots-Tag:noindex
X-PUBLISHED-TTL:PT1H
BEGIN:VTIMEZONE
TZID:Europe/Berlin
BEGIN:DAYLIGHT
TZOFFSETFROM:+0100
TZOFFSETTO:+0200
TZNAME:CEST
DTSTART:20200329T010000
END:DAYLIGHT
BEGIN:STANDARD
TZOFFSETFROM:+0200
TZOFFSETTO:+0100
TZNAME:CET
DTSTART:20201025T010000
END:STANDARD
BEGIN:DAYLIGHT
TZOFFSETFROM:+0100
TZOFFSETTO:+0200
TZNAME:CEST
DTSTART:20210328T010000
END:DAYLIGHT
BEGIN:STANDARD
TZOFFSETFROM:+0200
TZOFFSETTO:+0100
TZNAME:CET
DTSTART:20211031T010000
END:STANDARD
BEGIN:DAYLIGHT
TZOFFSETFROM:+0100
TZOFFSETTO:+0200
TZNAME:CEST
DTSTART:20220327T010000
END:DAYLIGHT
BEGIN:STANDARD
TZOFFSETFROM:+0200
TZOFFSETTO:+0100
TZNAME:CET
DTSTART:20221030T010000
END:STANDARD
BEGIN:DAYLIGHT
TZOFFSETFROM:+0100
TZOFFSETTO:+0200
TZNAME:CEST
DTSTART:20230326T010000
END:DAYLIGHT
BEGIN:STANDARD
TZOFFSETFROM:+0200
TZOFFSETTO:+0100
TZNAME:CET
DTSTART:20231029T010000
END:STANDARD
BEGIN:DAYLIGHT
TZOFFSETFROM:+0100
TZOFFSETTO:+0200
TZNAME:CEST
DTSTART:20240331T010000
END:DAYLIGHT
BEGIN:STANDARD
TZOFFSETFROM:+0200
TZOFFSETTO:+0100
TZNAME:CET
DTSTART:20241027T010000
END:STANDARD
END:VTIMEZONE
BEGIN:VEVENT
DTSTART;TZID=Europe/Berlin:20230909T150000
DTEND;TZID=Europe/Berlin:20230909T220000
DTSTAMP:20260422T145327
CREATED:20230725T160809Z
LAST-MODIFIED:20230725T160809Z
UID:15982-1694271600-1694296800@afdsaarpfalz.de
SUMMARY:Traditionelles Sommerfest 2023
DESCRIPTION:Traditionelles Sommerfest der AfD Saarpfalz am Samstag\, den 09.09.2023 ab 15 Uhr in 66386 St. Ingbert (Rohrbach). Für das leibliche Wohl ist gesorgt. Weitere Informationen zum Veranstaltungsort und Anmeldung unter Angabe von Namen und Personenzahl an kontakt@afdsaarpfalz.de.
URL:https://afdsaarpfalz.de/veranstaltung/traditionelles-sommerfest-2023/
ORGANIZER;CN="AfD Kreisverband Saarpfalz":MAILTO:kontakt@afdsaarpfalz.de
END:VEVENT
BEGIN:VEVENT
DTSTART;TZID=Europe/Berlin:20220903T160000
DTEND;TZID=Europe/Berlin:20220903T220000
DTSTAMP:20260422T145327
CREATED:20220804T103131Z
LAST-MODIFIED:20220804T150532Z
UID:15761-1662220800-1662242400@afdsaarpfalz.de
SUMMARY:Sommerfest des KV Saarpfalz
DESCRIPTION:Traditionelles Sommerfest der AfD Saarpfalz am Samstag\, den 03.09.2022 um 16 Uhr in 66424 Homburg/Saar. Weitere Informationen zum Veranstaltungsort und Anmeldungen unter Angabe der Personenzahl an Markus.Loew@AfDSaarpfalz.de oder unter 0151/75092050.
URL:https://afdsaarpfalz.de/veranstaltung/sommerfest-am-03-09-2022/
LOCATION:Sommerfest\, Auf Anfrage\, Homburg\, Saarland\, 66424\, Deutschland
END:VEVENT
BEGIN:VEVENT
DTSTART;VALUE=DATE:20220813
DTEND;VALUE=DATE:20220814
DTSTAMP:20260422T145327
CREATED:20220804T102709Z
LAST-MODIFIED:20220804T102813Z
UID:15756-1660348800-1660435199@afdsaarpfalz.de
SUMMARY:Tagesausflug zur Burg Berwartstein
DESCRIPTION:Der AfD-Kreisverband Saarpfalz veranstaltet\, gemeinsam mit den Kreisverbänden Merzig-Wadern und Saarbrücken-Stadt\, einen Tagesausflug zur Burg Berwartstein bei Dahn im schönen Pfälzerwald. Die Busfahrt\, sowie der Eintritt für die Burgführung und das abschließende gemeinsame Flammkuchen-Essen sind für Mitglieder und Angehörige natürlich kostenfrei. Optional wird eine geführte Wanderung durch den Pfälzerwald angeboten\, die zwei bis drei Stunden dauern wird\, die Teilnahme an der Wanderung ist aber kein Muss. \nAnmeldungen unter 0151/75092050 oder an Markus.Loew@AfDSaarpfalz.de.
URL:https://afdsaarpfalz.de/veranstaltung/tagesausflug-zur-burg-berwartstein/
LOCATION:Tagesausflug\, Burg Berwartstein 1\, Erlenbach\, Rheinland-Pfalz\, 76891\, Deutschland
ORGANIZER;CN="AfD Kreisverb%C3%A4nde Saarpfalz%2C SB-Stadt%2C Merzig-Wadern":MAILTO:markus.loew@afdsaarpfalz.de
END:VEVENT
BEGIN:VEVENT
DTSTART;TZID=Europe/Berlin:20211004T080000
DTEND;TZID=Europe/Berlin:20211004T170000
DTSTAMP:20260422T145327
CREATED:20210924T160041Z
LAST-MODIFIED:20211004T191645Z
UID:13386-1633334400-1633366800@afdsaarpfalz.de
SUMMARY:Am 04.09.21 kommt Tino Chrupalla kommt nach Homburg!
DESCRIPTION:
URL:https://afdsaarpfalz.de/veranstaltung/am-04-09-21-kommt-tino-chrupalla-kommt-nach-homburg/
CATEGORIES:Wahlkampfveranstaltung
END:VEVENT
END:VCALENDAR